BEGIN:VCALENDAR
VERSION:2.0
PRODID:-//PCMA - ECPv5.14.2.1//NONSGML v1.0//EN
CALSCALE:GREGORIAN
METHOD:PUBLISH
X-WR-CALNAME:PCMA
X-ORIGINAL-URL:https://www.pcma.org
X-WR-CALDESC:Events for PCMA
REFRESH-INTERVAL;VALUE=DURATION:PT1H
X-Robots-Tag:noindex
X-PUBLISHED-TTL:PT1H
BEGIN:VTIMEZONE
TZID:America/Los_Angeles
BEGIN:DAYLIGHT
TZOFFSETFROM:-0800
TZOFFSETTO:-0700
TZNAME:PDT
DTSTART:20230312T100000
END:DAYLIGHT
BEGIN:STANDARD
TZOFFSETFROM:-0700
TZOFFSETTO:-0800
TZNAME:PST
DTSTART:20231105T090000
END:STANDARD
TZID:UTC
BEGIN:STANDARD
TZOFFSETFROM:+0000
TZOFFSETTO:+0000
TZNAME:UTC
DTSTART:20240101T000000
END:STANDARD
END:VTIMEZONE
BEGIN:VEVENT
DTSTART;TZID=America/Los_Angeles:20231116T090000
DTEND;TZID=America/Los_Angeles:20231116T113000
DTSTAMP:20260424T104522
CREATED:20231007T123023Z
LAST-MODIFIED:20231109T160226Z
UID:194330-1700125200-1700134200@www.pcma.org
SUMMARY:Lessons In Leadership Presents: How to be an Emotionally Strong Leader in Today’s World
DESCRIPTION:  \nCalling all members near San Diego: \nRegister now to join us November 16th for a morning with Emotional Intelligence Speaker\, Trainer\, Award-Winning Author of The Emotionally Strong Leader and CEO of EI Experience\, Carolyn Stern! \nAmple time for networking and light refreshments will be provided before Carolyn takes the stage. \n$25 for PCMA Members\n$35 for Non – PCMA Members \nLimited Seats available. \nWhat is Emotional Intelligence and why does it matter? Take that question a step further and ask\, how does Emotional Intelligence affect my leadership skills and style? Carolyn Stern is an expert in the Emotional Intelligence field and PCMA Southwest & Pacific Chapter is thrilled to feature her as our next Lessons In Leadership Speaker!  Her thought provoking presentation on the Emotionally Strong Leader is one you don’t want to miss if you are in or near the San Diego Area. \nEvent Details: \nDate: Thursday\, November 16\, 2023 \nTime: 9:00am – 11:30am \nLocation:  SEAS Productions\, 2664 Vista Pacific Drive\, Oceanside\, CA 92056 \nA detailed email will come out closer to the event with additional event details. \nSponsored By:
URL:https://www.pcma.org/event/lessons-in-leadership-presents-how-to-be-an-emotionally-strong-leader-in-todays-world/
LOCATION:SEAS Productions\, 2664 Vista Pacific Drive\, Oceanside\, CA\, 92056
CATEGORIES:• Education,• Networking,• Southwest & Pacific,Chapters
ATTACH;FMTTYPE=image/png:https://www.pcma.org/wp-content/uploads/2023/10/LIL-Carolyn-11.17.23-Em1S0d.tmp_.png
ORGANIZER;CN="PCMA%20Southwest%20%26amp%3B%20Pacific%20Chapter":MAILTO:Southwest@pcma.org
END:VEVENT
BEGIN:VEVENT
DTSTART;TZID=UTC:20240229T123000
DTEND;TZID=UTC:20240229T163000
DTSTAMP:20260424T104522
CREATED:20240124T201524Z
LAST-MODIFIED:20240229T093021Z
UID:200332-1709209800-1709224200@www.pcma.org
SUMMARY:LEAP Conference
DESCRIPTION:PCMA Southwest & Pacific Chapter is proud to be a sponsor and announce the 2024 LEAP Conference brought to you by SEAS Productions! \nEvent Details\nDate: February 29\, 2024 \nTime: 12:30pm-4:30pm \nLocation: SEAS Productions located at 2664 Vista Pacific Drive\, Oceanside\, CA 92056 \nCost: Complimentary \nEligible for Continuing Education Credits: Yes \nThe Leadership\, Events & Production (LEAP) Conference is meant to bring together industry professionals in the Live Events & Production space on February 29th in this professional opportunity to “LEAP Forward” naturally on leap day! With keynote “The Emotionally Strong Leader” by Carolyn Stern and a session on “Showcalling & Live Event Stage Direction” by Troy Peters\, CTS paired with a networking happy hour. This FREE event is one not to be missed. Earn Continuing Education Credits and celebrate the convergence of creativity and technology. Register today to join us in Oceanside\, California. \nAgenda\n12:30 PM -1:00 PM Networking \n1:00 PM – 2:15 PM Live Event Stage Management Presentation with Troy J. Peters\, CTS \n2:15 PM – 2:30 PM Break \n2:30 PM – 3:30 PM The Emotionally Strong Leader Presentation with Carolyn Stern \n3:30 PM – 4:30 PM Networking and Happy Hour \nTo reserve your complimentary spot please visit: seaspro.com/leapconference \nKeynote: The Emotionally Strong Leader with Carolyn Stern \nAddressing the feelings of others in the workplace can be a terrifying proposition. For many leaders\, asking what lies behind the actions and reactions of their people is akin to opening Pandora’s box. They don’t want to find out what’s lurking inside. Many managers don’t know how to deal with- and they fear- their employees’ emotions. \nLeaders of these organizations have good reason to be scared. After all\, few of us know how to handle emotions (let alone handle them at work). Many of us have not learned how to tend to our feelings and those of others. So isn’t it better to sweep all those pesky emotions under the rug and carry on as if they don’t exist? The answer is an unequivocal no! \nInstead of spending time and money on dealing with the inappropriate behaviors and disrespectful communications stemming from emotional issues in your workplace\, you can get to the heart of those issues and deal with your feelings and the feelings of your people head-on. \nIn this session\, you will learn the emotional skills and mental strategies needed to be stronger and more intelligent than your feelings and help others learn to explore their emotions. Emotions should not be feared but celebrated. A wealth of amazing possibilities are available if we learn to harness the superpower of our emotions. \nLearning Objectives \n\nDiscover the systemic problems with ignoring emotions in the workplace.\nLearn why emotions matter and reduce the fear of tending to them at work.\nIdentify the emotional skills and mental strategies to be stronger than your feelings.\nGain a deeper awareness of your emotional makeup and how that helps and hurts your leadership effectiveness.\n\nCMP/CMM Renewal Units: 1.00 \n  \nShowcalling & Live Event Stage Direction with Troy J. Peters\, CTS\nWhether in-person\, virtual\, or hybrid\, the show caller or stage manager is responsible for directing an audio-visual multimedia experience that can have dozens or even hundreds of moving parts. From managing the onstage talent to the technical know-how\, you’ll learn how to engage in the best possible way with your onsite AV Team from the engineers\, show producers\, stage managers\, and even the audience\, to design and execute the perfect experiential live event. \nThis session will use real and relevant examples from recent events including presidential inaugurations\, major televised sporting events\, as well as more intimate\, but highly produced audience experiences. By working together\, we will talk through how to build a show flow\, anticipate challenges\, manage timelines\, and learn how to bring together your team behind the scenes. This is the perfect session for a seasoned event manager or team lead looking to better understand or even take on some stage management responsibilities\, or someone interested in production and looking for a path to design and direct their own events. \nLearning Objectives  \n\nUpon completion\, attendees will define the THREE types of equipment and operation going into any production. Source management\, processing\, and output. \nAs meeting planners and production leads\, we need to keep focused on TWO things… communication and timing. Through demonstration and group discussion we’ll build a show flow and line up all the deliverables.\nThe ONE mission critical piece of the live project is having active redundancies in place and ready to go. Hot backups and rehearsed “what-ifs” mean you’ll be set up for success\, even when challenges arise.\n\nCMP/CMM Renewal Units: 1.25 \nSponsored by:\nSEAS Productions\nPCMA Southwest and Pacific Chapter\nILEA San Diego\nOceanside Chamber of Commerce
URL:https://www.pcma.org/event/leap-conference/
LOCATION:SEAS Productions\, 2664 Vista Pacific Drive\, Oceanside\, CA\, 92056
CATEGORIES:• Southwest & Pacific
ATTACH;FMTTYPE=image/png:https://www.pcma.org/wp-content/uploads/2024/01/LEAP-Conference-Graphic-1920x1080-V2-7YqMts.tmp_.png
ORGANIZER;CN="PCMA%20Southwest%20%26amp%3B%20Pacific%20Chapter":MAILTO:Southwest@pcma.org
END:VEVENT
END:VCALENDAR