BEGIN:VCALENDAR
VERSION:2.0
PRODID:-//PCMA - ECPv5.14.2.1//NONSGML v1.0//EN
CALSCALE:GREGORIAN
METHOD:PUBLISH
X-WR-CALNAME:PCMA
X-ORIGINAL-URL:https://www.pcma.org
X-WR-CALDESC:Events for PCMA
REFRESH-INTERVAL;VALUE=DURATION:PT1H
X-Robots-Tag:noindex
X-PUBLISHED-TTL:PT1H
BEGIN:VTIMEZONE
TZID:America/Denver
BEGIN:DAYLIGHT
TZOFFSETFROM:-0700
TZOFFSETTO:-0600
TZNAME:MDT
DTSTART:20250309T090000
END:DAYLIGHT
BEGIN:STANDARD
TZOFFSETFROM:-0600
TZOFFSETTO:-0700
TZNAME:MST
DTSTART:20251102T080000
END:STANDARD
END:VTIMEZONE
BEGIN:VEVENT
DTSTART;VALUE=DATE:20250929
DTEND;VALUE=DATE:20250930
DTSTAMP:20260419T073935
CREATED:20250627T221519Z
LAST-MODIFIED:20250929T233012Z
UID:238700-1759104000-1759190399@www.pcma.org
SUMMARY:RMPCMA 2025 Golf Tournament
DESCRIPTION:REGISTER HERE\n2025 Golf Prospectus\n  \nTENTATIVE SCHEDULE\nMonday\, September 29\, 2025\n7:30 AM – Registration Opens\n8:30 AM – Shotgun Start\n1:30 PM (approx.) – Awards and Auction to Immediately Follow \n\nPRICING\n\nIndividual Ticket\n$200 \nFoursome\n$800 \n\nInterested In Sponsoring This Event?\nClick here to view sponsorship opportunities. If you are interested in being a sponsor\, please contact: \nScott Collinsworth\nDirector of Golf\nscollinsworth@imageav.com\n303-758-1818 ex:106 \nOR \nTaylor Savage\nDirector of Sponsorship\nsponsorship@rmpcma.org\n740-856-9407 \n\nTHANK YOU TO OUR GENEROUS SPONSORS\nVENUE SPONSOR\n  \n \n \n  \nPHOTOGRAPHY SPONSOR\n  \n \n  \nSIGNAGE SPONSOR\n \nBREAKFAST & COFFEE SPONSOR\n \n  \nDRIVING RANGE SPONSOR\n \n  \nCONTEST HOLE SPONSOR\n\nM CLOSEST TO THE PIN #8\n \nW CLOSEST TO THE PIN #4\n  \n \nHOLE SPONSOR\n  \n \n  \n \n    \nREGISTRATION BADGE SPONSOR\n 
URL:https://www.pcma.org/event/save-the-date/
LOCATION:Raccoon Creek Golf Course\, 7301 W Bowles Ave\, Littleton\, Colorado\, 80123
CATEGORIES:• Rocky Mountain
ATTACH;FMTTYPE=image/jpeg:https://www.pcma.org/wp-content/uploads/2025/08/RMPCMA-Golf-Tourament-1-e1756262955646-ZXMId2.jpg
ORGANIZER;CN="PCMA%20Rocky%20Mountain%20Chapter":MAILTO:rockymountain@pcma.org
END:VEVENT
END:VCALENDAR