BEGIN:VCALENDAR
VERSION:2.0
PRODID:-//PCMA - ECPv5.14.2.1//NONSGML v1.0//EN
CALSCALE:GREGORIAN
METHOD:PUBLISH
X-WR-CALNAME:PCMA
X-ORIGINAL-URL:https://www.pcma.org
X-WR-CALDESC:Events for PCMA
REFRESH-INTERVAL;VALUE=DURATION:PT1H
X-Robots-Tag:noindex
X-PUBLISHED-TTL:PT1H
BEGIN:VTIMEZONE
TZID:America/Edmonton
BEGIN:DAYLIGHT
TZOFFSETFROM:-0700
TZOFFSETTO:-0600
TZNAME:MDT
DTSTART:20250309T090000
END:DAYLIGHT
BEGIN:STANDARD
TZOFFSETFROM:-0600
TZOFFSETTO:-0700
TZNAME:MST
DTSTART:20251102T080000
END:STANDARD
END:VTIMEZONE
BEGIN:VEVENT
DTSTART;TZID=America/Edmonton:20250521T170000
DTEND;TZID=America/Edmonton:20250521T183000
DTSTAMP:20260423T050101
CREATED:20250516T154509Z
LAST-MODIFIED:20250521T170015Z
UID:235812-1747846800-1747852200@www.pcma.org
SUMMARY:Cold Drinks\, Hot Topics – I Am Canadian: Calgary Edition
DESCRIPTION:This event is so nice\, we decided to do it twice…. in a month! Cold Drinks\, Hot Topics is heading to Alberta. First stop: CALGARY! \nEnjoy a cold beverage and meet up with industry friends past\, present\, and new to network and discuss key topics facing our industry. These events are meant to be low pressure and highly interactive and engaging – let’s have fun together. All are welcome\, bring a friend or colleague and meet someone new!  \nI Am Canadian: Sourcing and Living Local \n\nWhat does the volatility in US politics and tariff threats mean for the events industry?\nHow can we band together to source locally and support Canadian businesses?\n\nTicket Includes: pizza appetizers and (1) drink ticket.
URL:https://www.pcma.org/event/cold-drinks-hot-topics-i-am-canadian-calgary-edition/
LOCATION:Bridgeland Distillery\, 77 Edmonton Trail NE\, Calgary\, Alberta\, T2E 8M8\, Central African Republic
CATEGORIES:• Canada West,• Networking
ATTACH;FMTTYPE=image/png:https://www.pcma.org/wp-content/uploads/2025/05/CDHT-Calgary-pgAoOF.tmp_.png
END:VEVENT
END:VCALENDAR