BEGIN:VCALENDAR
VERSION:2.0
PRODID:-//PCMA - ECPv5.14.2.1//NONSGML v1.0//EN
CALSCALE:GREGORIAN
METHOD:PUBLISH
X-WR-CALNAME:PCMA
X-ORIGINAL-URL:https://www.pcma.org
X-WR-CALDESC:Events for PCMA
REFRESH-INTERVAL;VALUE=DURATION:PT1H
X-Robots-Tag:noindex
X-PUBLISHED-TTL:PT1H
BEGIN:VTIMEZONE
TZID:America/Chicago
BEGIN:DAYLIGHT
TZOFFSETFROM:-0600
TZOFFSETTO:-0500
TZNAME:CDT
DTSTART:20260308T080000
END:DAYLIGHT
BEGIN:STANDARD
TZOFFSETFROM:-0500
TZOFFSETTO:-0600
TZNAME:CST
DTSTART:20261101T070000
END:STANDARD
TZID:America/New_York
BEGIN:DAYLIGHT
TZOFFSETFROM:-0500
TZOFFSETTO:-0400
TZNAME:EDT
DTSTART:20260308T070000
END:DAYLIGHT
BEGIN:STANDARD
TZOFFSETFROM:-0400
TZOFFSETTO:-0500
TZNAME:EST
DTSTART:20261101T060000
END:STANDARD
TZID:America/Los_Angeles
BEGIN:DAYLIGHT
TZOFFSETFROM:-0800
TZOFFSETTO:-0700
TZNAME:PDT
DTSTART:20260308T100000
END:DAYLIGHT
BEGIN:STANDARD
TZOFFSETFROM:-0700
TZOFFSETTO:-0800
TZNAME:PST
DTSTART:20261101T090000
END:STANDARD
TZID:America/Denver
BEGIN:DAYLIGHT
TZOFFSETFROM:-0700
TZOFFSETTO:-0600
TZNAME:MDT
DTSTART:20260308T090000
END:DAYLIGHT
BEGIN:STANDARD
TZOFFSETFROM:-0600
TZOFFSETTO:-0700
TZNAME:MST
DTSTART:20261101T080000
END:STANDARD
TZID:UTC
BEGIN:STANDARD
TZOFFSETFROM:+0000
TZOFFSETTO:+0000
TZNAME:UTC
DTSTART:20260101T000000
END:STANDARD
TZID:Europe/Lisbon
BEGIN:DAYLIGHT
TZOFFSETFROM:+0000
TZOFFSETTO:+0100
TZNAME:WEST
DTSTART:20260329T010000
END:DAYLIGHT
BEGIN:STANDARD
TZOFFSETFROM:+0100
TZOFFSETTO:+0000
TZNAME:WET
DTSTART:20261025T010000
END:STANDARD
END:VTIMEZONE
BEGIN:VEVENT
DTSTART;VALUE=DATE:20260607
DTEND;VALUE=DATE:20260610
DTSTAMP:20260423T200824
CREATED:20260311T144528Z
LAST-MODIFIED:20260423T223027Z
UID:250438-1780790400-1781049599@www.pcma.org
SUMMARY:E3
DESCRIPTION:PCMA E3 SIZZLE\n\n	{“type”:”video”\,”tracklist”:true\,”tracknumbers”:true\,”images”:true\,”artists”:true\,”tracks”:[{“src”:”https://heartland.pcma.org/wp-content/uploads/sites/34/2026/01/PCMA-E3-SIZZLE.mp4″\,”type”:”video/mp4″\,”title”:”PCMA E3 SIZZLE”\,”caption”:””\,”description”:””\,”meta”:{“length_formatted”:”0:23″}\,”dimensions”:{“original”:{“width”:1920\,”height”:1080}\,”resized”:{“width”:1148\,”height”:646}}\,”image”:{“src”:”https://heartland.pcma.org/wp-includes/images/media/video.svg”\,”width”:48\,”height”:64}\,”thumb”:{“src”:”https://heartland.pcma.org/wp-includes/images/media/video.svg”\,”width”:48\,”height”:64}}]}\n \nUnlock the Power of Excellence at E3 2026 Conference in Northwest Arkansas! \nJoin us for the PCMA Heartland Chapter’s premier event\, the E3 Conference\, from June 7 – 9\, 2026.  Hosted by Destination Rogers\, and partnering with Visit Bentonville and Experience Fayetteville. These three destinations will work together to host our conference. Get ready to embark on an unforgettable journey of education\, engagement and empowerment. \nWe are excited to announce our Keynote speaker– Beth Surmont\, 360 Live Media. We also have an action-packed agenda with several amazing speakers and events. \nSchedule of Events\nSunday\, June 7\n5:00 – 6:45 pm \nHosted Welcome Reception – Preparty. Located at Hotel Vin\n\n7:00 – 9:00 pm \nHosted Welcome Reception – Ruth’s Chris \nMonday\, June 8\n7:00 – 7:45 am \nMorning Wellness Activity- Hotel Avail \n8:00 – 9:00 am\nBreakfast- Hotel Avail \n9:00 – 10:15 am\nKeynote Address/Leading Class Speaker\, Beth Surmont \n10:40 – 11:30 am\nSmall Group discussion lead by Beth Surmont \n11:30 am – 12:30 pm\nLunch at Hotel Avail \n12:30 pm – 2:00 pm\nExperience Designed Meetings\, Panel discussion – Hotel Avail \n6:00 – 7:30 pm\nExperience Fayetteville! Dinner- The Leroy Lounge \nTuesday\, June 9\n7:30 – 8:30 am\nWellness Activity\, Hotel Avail \n8:30 – 9:30 am\nBreakfast\, Hotel Avail \n9:00 – 11:30 am\nExperience Designed Meetings\, Hotel Avail \n11:30 am – 1:00 pm\nLunch on own \n1:00 – 2:30 pm\nHotel Tours (Must Register) \nSee Who’s Coming! \n\n  Hotel Accommodations at Hotel Avail in Rogers.\nPlanners\nSuppliers/Sponsors\nInterested in Sponsorship for this event?\n  \nThank You to Our Sponsors:\n  \n          \n  \n  \n  \n  \n  \n  \n  \n  \n  \n  \n \n  \n \n 
URL:https://www.pcma.org/event/e3/
CATEGORIES:• Heartland
ATTACH;FMTTYPE=image/png:https://www.pcma.org/wp-content/uploads/2026/03/E3-2026-Kw3MVL.png
END:VEVENT
BEGIN:VEVENT
DTSTART;TZID=America/Chicago:20260609T110000
DTEND;TZID=America/Chicago:20260609T120000
DTSTAMP:20260423T200824
CREATED:20260416T161351Z
LAST-MODIFIED:20260416T161351Z
UID:252103-1781002800-1781006400@www.pcma.org
SUMMARY:Spark Webinar Series | Master Your Marketing Engine
DESCRIPTION:[vc_btn title=”REGISTER NOW” style=”gradient-custom” gradient_custom_color_1=”#e0295d” gradient_custom_color_2=”#9353f6″ shape=”round” size=”lg” align=”center” i_align=”right” i_icon_fontawesome=”fas fa-chevron-right” add_icon=”true” link=”url:https%3A%2F%2Fpcma.zoom.us%2Fwebinar%2Fregister%2FWN_rRN9CkIjS_qCE_XGbjX_Qw|target:_blank” el_class=”reg-btn pcma-btn white-btn”]        \n    \n\n\n    \n    \n\n    \n        \n            \n    Go beyond watching — discover how to transform your event marketing from generic outreach into a precision-targeted campaign. In this hands-on session\, you’ll use Spark to build deep audience personas and then immediately put them to work. You’ll draft segmented email sequences\, craft high-impact social media kits\, and generate professional press releases. You’ll leave with a cohesive marketing toolkit designed to reach the right people with the right message. \nLearning outcomes: \n\nDevelop detailed audience personas to ground your marketing strategy in real human needs.\nGenerate multi-channel social content tailored to different platforms and engagement goals.\nDraft segmented email campaigns that speak directly to specific attendee profiles.\nCreate professional press releases and media assets to amplify your event’s reach.\nStreamline the path from strategy to execution using Spark’s integrated marketing tools.\n\nPresenter: Nick Borelli \n\n        \n    \n\n\n    \n    \n\n    \n        \n            [vc_btn title=”REGISTER NOW” style=”gradient-custom” gradient_custom_color_1=”#e0295d” gradient_custom_color_2=”#9353f6″ gradient_text_color=”” shape=”round” size=”lg” align=”center” i_align=”right” i_icon_fontawesome=”fas fa-chevron-right” add_icon=”true” link=”url:https%3A%2F%2Fpcma.zoom.us%2Fwebinar%2Fregister%2FWN_kvkdn585RzqdzaeIDZCpvg%23%2Fregistration|target:_blank” el_class=”reg-btn pcma-btn”]        \n    \n\n\n    \n    \n\n    \n        \n            \n    Earn 1 CEU Credit Towards Your CMP Certification by Attending! \nBrought to you by Experience Sioux Falls
URL:https://www.pcma.org/event/spark-webinar-master-your-marketing-engine/
LOCATION:Online\, United States
CATEGORIES:Featured,Industry Calendar,PCMA Events,Webinars
ATTACH;FMTTYPE=image/png:https://www.pcma.org/wp-content/uploads/2026/04/Automate.png
END:VEVENT
BEGIN:VEVENT
DTSTART;TZID=America/New_York:20260616T150000
DTEND;TZID=America/New_York:20260616T190000
DTSTAMP:20260423T200824
CREATED:20260422T214517Z
LAST-MODIFIED:20260423T213039Z
UID:252479-1781622000-1781636400@www.pcma.org
SUMMARY:NYPCMA / MPIGNY Softball Game
DESCRIPTION:
URL:https://www.pcma.org/event/nypcma-mpigny-softball-game/
LOCATION:Central Park
CATEGORIES:• New York Area
END:VEVENT
BEGIN:VEVENT
DTSTART;TZID=America/New_York:20260617T123000
DTEND;TZID=America/New_York:20260617T160000
DTSTAMP:20260423T200824
CREATED:20260319T160025Z
LAST-MODIFIED:20260423T190017Z
UID:250669-1781699400-1781712000@www.pcma.org
SUMMARY:Phillies Businessperson’s Special
DESCRIPTION:Please join us on Wednesday\, June 17th for the PCMA Greater Philadelphia Chapter’s annual Phillies networking event at Citizens Bank Park! The festivities are planned to maximize the fun with a private reception area inside the park complete with food\, beverages\, and plenty of your industry colleagues and friends. \nNetworking Lunch Information: Your registration includes one and a half hours of beer\, soft drinks\, and ballpark food favorites. Food and drinks will be served from 12:30pm-2:00pm. The Rooftop Terrace is located inside the park above Ashburn Alley. \nGame Information: The game starts at 1:05pm. Attendees will be able to watch the game from the reception area or from the bleacher seats adjacent to the reception area. \nRegistration Information: \n\nRegistration is limited to PCMA members and guest colleagues from the meetings and events industry. Spouses\, partners\, and friends of the industry are welcome\, too. If you are interested in attending the Phillies game but you are not affiliated with the meetings and events industry\, please visit the Phillies website for more information on purchasing game tickets.\nPlease register BY CLICKING HERE\, or click the registration button further down on this page.\nPCMA PHL is committed to creating a well-balanced event experience with strong engagement between planners and suppliers. To ensure this\, we will closely monitor registration and may limit certain registration categories if the ratio does not align with our event goals.\nPurchasing a ticket on your own and attending this private event is not an option. Wristbands and tickets will be checked upon entry and throughout the event.\nThis event sells out! Please register early to reserve your spot!\n\nNote to Suppliers: Please consider inviting a planner to attend as your guest. Many planners cannot expense this event since it does not have an educational component. \nCheck-In Information: Tickets\, Rooftop Party Passes\, and badges will be distributed at the PCMA PHL registration table outside the Left Field Gate from 12:00pm-1:00pm. After 1:00pm\, tickets will be available for pickup at Will Call\, which is located at the First Base Gate. Please try to get to registration no later than 1:00pm to make your arrival and check-in as smooth as possible. \nParking: Information on parking and transportation can be viewed at https://www.mlb.com/phillies/ballpark/transportation. \nBag Policy: Please take note of the bag policy at the stadium. Only very small purses and clear bags are permitted inside the stadium. \nMembership: If you are not a member of the PCMA Greater Philadelphia Chapter\, please consider joining. Membership information is available here\, or by contacting Erica Keagy\, PCMA PHL Executive Director\, gppcma@comcast.net\, 610-220-1232. \nSponsorships for this event are still available. Please contact Erica Keagy\, PCMA PHL Executive Director\, at gppcma@comcast.net for more information. \nThank you to our event sponsors!\n \n  \nImportant Registration Notes: Please select the correct registration category before completing your registration. All selections will be reviewed to confirm both category accuracy and current membership status with the Philadelphia Chapter. If you’re unsure which category to choose or whether your membership is active\, please contact gppcma@comcast.net for assistance. If you register as a PCMA PHL member and your membership is not current\, you will be charged the difference and any additional balance will be charged to your original form of payment. If you register under an incorrect regisration category\, your registration will be updated accordingly and any additional balance will be charged to your original form of payment. Prepayment is required for all attendees. Tickets are non-refundable. 
URL:https://www.pcma.org/event/phillies-businesspersons-special-5/
LOCATION:Citizens Bank Park\, 1 Citizens Bank Way\, Philadelphia\, PA\, 19148\, United States
CATEGORIES:• Greater Philadelphia,• Networking,Chapters,Featured,Industry Calendar
ATTACH;FMTTYPE=image/jpeg:https://www.pcma.org/wp-content/uploads/2025/02/Phillies-2025-Web-Banner-ByQiy7.tmp_.jpg
ORGANIZER;CN="PCMA%20Greater%20Philadelphia%20Chapter":MAILTO:gppcma@comcast.net
END:VEVENT
BEGIN:VEVENT
DTSTART;VALUE=DATE:20260621
DTEND;VALUE=DATE:20260625
DTSTAMP:20260423T200824
CREATED:20241011T133037Z
LAST-MODIFIED:20260316T205214Z
UID:216042-1782000000-1782345599@www.pcma.org
SUMMARY:Business Events Summit formerly edUcon
DESCRIPTION:From edUcon to Business Events Summit \nAs part of PCMA’s brand refresh\, edUcon has evolved into the Business Events Summit to more clearly reflect what today’s leaders need from education: depth\, rigor\, and real‑world application. \nBusiness Events Summit 2026 is heading to Puerto Rico—where advanced learning and meaningful connection come together in one immersive setting. \nThe PCMA Business Events Summit is an advanced\, members-only education experience—an immersive\, skills‑based summit for business events professionals ready to sharpen their expertise\, solve real‑world challenges\, and elevate their impact. Formerly edUcon\, the Summit has been reimagined as a pinnacle learning environment with longer sessions\, hands‑on application\, and peer‑driven problem solving.
URL:https://www.pcma.org/event/business-events-summit-2026/
LOCATION:El Conquistador Resort\, Fajardo\, Puerto Rico
CATEGORIES:Featured,Industry Calendar,PCMA Events
ATTACH;FMTTYPE=image/png:https://www.pcma.org/wp-content/uploads/2024/10/besummit-event-banner-1500x500-1.png
END:VEVENT
BEGIN:VEVENT
DTSTART;TZID=America/Chicago:20260630T140000
DTEND;TZID=America/Chicago:20260630T150000
DTSTAMP:20260423T200824
CREATED:20260423T213039Z
LAST-MODIFIED:20260423T213039Z
UID:252607-1782828000-1782831600@www.pcma.org
SUMMARY:GMC PCMA Webinar: Macro Forces Driving Uncertainty
DESCRIPTION:Join us for Macro Forces Driving Uncertainty and explore external forces (economic\, technological\, demographic) that are shaping the industry. \nREGISTER TODAY! \nSpeaker: Beth Surmont\, FASAE\, CMP – Fellow\n \n \nBeth Surmont is an event strategist who works with associations and non-profits to help them redesign\, reinvent\, and reinvigorate their events.  She is fascinated by the power that events hold to drive real change in the world. With on-the-ground event planning experience spanning more than 20 years in events\, trade shows\, corporate\, and non-profit; and as the current Vice President of Event Strategy &amp; Design at 360 Live Media\, Beth is a leading designer in what the next era of events will be. Her approach of audience-centered design combined with purposeful intention is the secret to creating meaningful and impactful events. Beth was awarded the 2024 Groundbreaker award from PCMA. In 2023\, Beth was a finalist for the Event Designer of the Year award from PCMA. Beth is both an ASAE Fellow and a CMP Fellow. She is a founding board member of SocialOffset\, a nonprofit that encourages local donations instead of destination boycotts. She currently lives in New Jersey with her wife\, dog\, and cat. \nWebinar Series Sponsored by
URL:https://www.pcma.org/event/gmc-pcma-webinar-macro-forces-driving-uncertainty/
LOCATION:Zoom
CATEGORIES:• Education,• Greater Midwest,• Networking,Chapters,Featured,Industry Calendar
END:VEVENT
BEGIN:VEVENT
DTSTART;TZID=America/Los_Angeles:20260702T100000
DTEND;TZID=America/Los_Angeles:20260702T110000
DTSTAMP:20260423T200824
CREATED:20260403T124510Z
LAST-MODIFIED:20260423T191621Z
UID:251580-1782986400-1782990000@www.pcma.org
SUMMARY:Accessibility Exchange: A Community Conversation
DESCRIPTION:Accessibility Exchange\, a monthly online discussion space dedicated to advancing accessibility in the events industry. Held on the first Thursday of every month (with the exception of October\, when it will take place on the second Thursday)\, this open forum invites event professionals\, advocates\, and curious minds to come together for honest\, community-driven conversations. \nThis initiative is a collaboration between PCMA’s Capital\, Pacific Northwest\, and Rocky Mountain Chapters\, created to foster a safe\, inclusive space where questions are welcomed\, perspectives are shared\, and progress is made—together. \nWhether you’re just beginning to explore accessibility or you’re a seasoned advocate\, you’re welcome here. Discussions may cover current challenges\, recent innovations\, cost-effective strategies\, and more. Occasionally\, we’ll feature special guests who are thought leaders in the accessibility space. \nNo presentations. No pressure. Just real conversation. \nParticipation is easy—register via Zoom and drop in. You’ll also gain access to a shared space where attendees can exchange resources\, tools\, and ideas to make our events more inclusive for all. \nLet’s connect\, learn\, and build more accessible experiences—one conversation at a time. \nZoom Registration Link:  https://cogentexpert.zoom.us/meeting/register/dx7vedH0TiCExqPRXFuGgg
URL:https://www.pcma.org/event/accessibility-exchange-a-community-conversation-43/
LOCATION:Virtual
CATEGORIES:• Education,• Pacific Northwest,Chapters,Industry Calendar
ATTACH;FMTTYPE=image/png:https://www.pcma.org/wp-content/uploads/2025/12/Accessibility-Exchange-Web-Banner-B7LJqZ.png
ORGANIZER;CN="PCMA%20Pacific%20Northwest%20Chapter":MAILTO:pacificnorthwest@pcma.org
END:VEVENT
BEGIN:VEVENT
DTSTART;TZID=America/Denver:20260702T110000
DTEND;TZID=America/Denver:20260702T120000
DTSTAMP:20260423T200824
CREATED:20260403T221514Z
LAST-MODIFIED:20260422T214519Z
UID:251624-1782990000-1782993600@www.pcma.org
SUMMARY:Accessibility Exchange: A Community Conversation
DESCRIPTION:Held on the first Thursday of every month\, this open forum invites event professionals\, advocates\, and curious minds to come together for honest\, community-driven conversations. \nThis initiative is a collaboration between PCMA’s Capital\, Pacific Northwest\, and Rocky Mountain Chapters\, created to foster a safe\, inclusive space where questions are welcomed\, perspectives are shared\, and progress is made—together. \nWhether you’re just beginning to explore accessibility or you’re a seasoned advocate\, you’re welcome here. Discussions may cover current challenges\, recent innovations\, cost-effective strategies\, and more. Occasionally\, we’ll feature special guests who are thought leaders in the accessibility space. \nNo presentations. No pressure. Just real conversation. \nParticipation is easy—register via Zoom and drop in. You’ll also gain access to a shared space where attendees can exchange resources\, tools\, and ideas to make our events more inclusive for all. \nLet’s connect\, learn\, and build more accessible experiences—one conversation at a time. \nZoom Registration Link: \nNew link coming soon
URL:https://www.pcma.org/event/accessibility-exchange-a-community-conversation-45/
CATEGORIES:• Rocky Mountain
ATTACH;FMTTYPE=image/jpeg:https://www.pcma.org/wp-content/uploads/2026/04/NEW-AX-Header-16x9-1-YlnHLR.jpg
ORGANIZER;CN="PCMA%20Rocky%20Mountain%20Chapter":MAILTO:rockymountain@pcma.org
END:VEVENT
BEGIN:VEVENT
DTSTART;TZID=America/New_York:20260702T130000
DTEND;TZID=America/New_York:20260702T140000
DTSTAMP:20260423T200824
CREATED:20260403T163015Z
LAST-MODIFIED:20260423T190017Z
UID:251601-1782997200-1783000800@www.pcma.org
SUMMARY:Accessibility Exchange: A Community Conversation
DESCRIPTION:Join us for Accessibility Exchange\, a monthly online discussion space dedicated to advancing accessibility in the events industry. Held on the first Thursday of every month\, this open forum invites event professionals\, advocates\, and curious minds to come together for honest\, community-driven conversations. \nThis initiative is a collaboration between PCMA’s Capital\, Pacific Northwest\, and Rocky Mountain Chapters\, created to foster a safe\, inclusive space where questions are welcomed\, perspectives are shared\, and progress is made—together. \nWhether you’re just beginning to explore accessibility or you’re a seasoned advocate\, you’re welcome here. Discussions may cover current challenges\, recent innovations\, cost-effective strategies\, and each month will feature a different subject matter expert. \nNo presentations. No pressure. Just real conversation. \nParticipation is easy—register via Zoom and drop in. You’ll also gain access to a shared space where attendees can exchange resources\, tools\, and ideas to make our events more inclusive for all. \nLet’s connect\, learn\, and build more accessible experiences—one conversation at a time. \nCheck back soon for registration information! 
URL:https://www.pcma.org/event/accessibility-exchange-a-community-conversation-44/
CATEGORIES:• Capital,Chapters
ATTACH;FMTTYPE=image/png:https://www.pcma.org/wp-content/uploads/2026/02/Accessibility-Exchange-Web-Banner-AZ51C3.png
END:VEVENT
BEGIN:VEVENT
DTSTART;TZID=America/New_York:20260708T160000
DTEND;TZID=America/New_York:20260708T180000
DTSTAMP:20260423T200824
CREATED:20260409T151512Z
LAST-MODIFIED:20260423T213039Z
UID:251846-1783526400-1783533600@www.pcma.org
SUMMARY:Summer Social
DESCRIPTION:Save the date for the annual Summer Social! \nDate: Wednesday\, July 8\, 2026\nTime: 4:00pm-6:00pm\nLocation: TBA
URL:https://www.pcma.org/event/summer-social-2/
CATEGORIES:• Networking,• New York Area,Chapters,Industry Calendar
ATTACH;FMTTYPE=image/jpeg:https://www.pcma.org/wp-content/uploads/2025/04/Save-the-date-NYPCMA-2025-5XuGRd.tmp_.jpg
ORGANIZER;CN="NYPCMA":MAILTO:newyork@pcma.org
END:VEVENT
BEGIN:VEVENT
DTSTART;VALUE=DATE:20260713
DTEND;VALUE=DATE:20260715
DTSTAMP:20260423T200824
CREATED:20260415T171514Z
LAST-MODIFIED:20260423T214549Z
UID:252061-1783900800-1784073599@www.pcma.org
SUMMARY:2026 Annual 2-Day Educational Program
DESCRIPTION:Join us July 13–14\, 2026\, for the PCMA Southeast Annual 2-Day Educational Program\, bringing together industry peers for education\, connection\, and conversation in the heart of Nashville. \nVenue Update: The program will now take place at the Canopy by Hilton Nashville Downtown The Gulch. \nThe program will feature two days of educational sessions\, along with a Monday evening reception\, offering a relaxed opportunity to network and unwind with fellow attendees. \nAdditional details will be shared soon—mark your calendar\, register today\, and plan to join us! \nLEARN MORE AND REGISTER \nSEE WHO’S ATTENDING \n\nEVENT DETAILS\n\nPCMA Southeast’s\nAnnual 2-Day Educational Program\nDate: July 13-14\, 2026\nLocation: Canopy by Hilton Nashville Downtown The Gulch\n920 Division St.\, Nashville\, TN 37203 | 615-621-2598 \n\nAGENDA \nSchedule at a Glance: \n\nMonday\, July 13\, 2026 | 10:00 a.m.–4:30 p.m. – Educational Sessions\nMonday\, July 13\, 2026 | 5:00–6:30 p.m. – Reception\nTuesday\, July 14\, 2026 | 9:00 a.m.–12:00 p.m. – Educational Sessions\n\n\nREGISTRATION PRICING \nEarly Bird Pricing (Register by May 28\, 2026):\nStudent: $95\nCEMA Member: $170\nPCMA Member: $170\nNon-Member: $195 \nRegular Pricing (After May 28\, 2026):\nStudent: $105\nCEMA Member: $195\nPCMA Member: $195\nNon-Member: $245 \n** IF YOU NEED TO BE INVOICED\, PLEASE CONTACT: INFO@PCMASOUTHEAST.ORG **\n\nVENUE AND ACCOMMODATIONS \nLocation:\nLocation: Canopy by Hilton Nashville Downtown The Gulch\n920 Division St.\, Nashville\, TN 37203\n615-621-2598 \nHotel Reservations:\n$289 USD per night \nSecure your stay at the Canopy by Hilton Nashville Downtown The Gulch at a special rate of $289/night. Rooms are limited—reserve by June 19. \nPCMA Southeast Hotel Booking Link  \n\nSPEAKERS ANNOUNCED SOON! \n\nSPONSORSHIP OPPORTUNITIES AVAILABLE\nContact: info@pcmasoutheast.org \n 
URL:https://www.pcma.org/event/2026-annual-2-day-educational-program/
LOCATION:Canopy by Hilton Nashville Downtown The Gulch\, 920 Division St.\, Nashville\, TN\, 37203
CATEGORIES:• Southeast
END:VEVENT
BEGIN:VEVENT
DTSTART;TZID=America/Chicago:20260722T133000
DTEND;TZID=America/Chicago:20260722T143000
DTSTAMP:20260423T200824
CREATED:20260423T213040Z
LAST-MODIFIED:20260423T213040Z
UID:252608-1784727000-1784730600@www.pcma.org
SUMMARY:GMC PCMA Webinar: Processes for Forward Thinking
DESCRIPTION:Join us for Processes for Forward Thinking and dive into tools and methods for preparing for multiple future paths and as well as practical frameworks to help organizations plan amid unknowns. \nREGISTER TODAY! \nSpeaker: Beth Surmont\, FASAE\, CMP – Fellow\n \n \nBeth Surmont is an event strategist who works with associations and non-profits to help them redesign\, reinvent\, and reinvigorate their events.  She is fascinated by the power that events hold to drive real change in the world. With on-the-ground event planning experience spanning more than 20 years in events\, trade shows\, corporate\, and non-profit; and as the current Vice President of Event Strategy &amp; Design at 360 Live Media\, Beth is a leading designer in what the next era of events will be. Her approach of audience-centered design combined with purposeful intention is the secret to creating meaningful and impactful events. Beth was awarded the 2024 Groundbreaker award from PCMA. In 2023\, Beth was a finalist for the Event Designer of the Year award from PCMA. Beth is both an ASAE Fellow and a CMP Fellow. She is a founding board member of SocialOffset\, a nonprofit that encourages local donations instead of destination boycotts. She currently lives in New Jersey with her wife\, dog\, and cat. \nWebinar Series Sponsored by
URL:https://www.pcma.org/event/gmc-pcma-webinar-processes-for-forward-thinking/
LOCATION:Zoom
CATEGORIES:• Education,• Greater Midwest,• Networking,Chapters,Featured,Industry Calendar
END:VEVENT
BEGIN:VEVENT
DTSTART;VALUE=DATE:20260809
DTEND;VALUE=DATE:20260812
DTSTAMP:20260423T200824
CREATED:20260317T131245Z
LAST-MODIFIED:20260317T131419Z
UID:250585-1786233600-1786492799@www.pcma.org
SUMMARY:CEMA Summit 2026
DESCRIPTION:Summit 2026 is coming to Toronto\, Canada. “Where the World Comes Together.” ​ \nCEMA Summit 2026 in Toronto will be a celebration of global event marketing —uniting leaders\, innovators\, and rising stars for three unforgettable days of education\, networking\, and fun. It is the stage where innovation knows no borders\, and where the event marketing community comes together to shape the future. \nLearn more about CEMA Summit 2026 »
URL:https://www.pcma.org/event/cema-summit-2026/
LOCATION:Toronto\, Ontario\, Canada\, Toronto\, Canada
CATEGORIES:Featured,Industry Calendar
ATTACH;FMTTYPE=image/png:https://www.pcma.org/wp-content/uploads/2026/03/cemasummit-event-banner-1500x500-1.png
ORGANIZER;CN="CEMA":MAILTO:membership@cemaonline.com
END:VEVENT
BEGIN:VEVENT
DTSTART;VALUE=DATE:20260913
DTEND;VALUE=DATE:20260916
DTSTAMP:20260423T200824
CREATED:20251021T093215Z
LAST-MODIFIED:20251021T101310Z
UID:244245-1789257600-1789516799@www.pcma.org
SUMMARY:Convening EMEA 2026
DESCRIPTION:Convening EMEA is PCMA EMEA’s annual flagship event bringing together the global business events industry for an immersive 3-day programme in Europe. \nThe event attracts 600+ business event leaders from over 40 countries to challenge each other and develop ways to move forward together. It is the platform to share knowledge\, make meaningful connections\, learn\, do business\, be inspired and to grow as individuals\, teams and organisations. \nThis is your opportunity to contribute to building a stronger future for the business events industry. \nJoin us in Lisbon in September 2026 as our journey continues. \n\n        \n    \n\n\n    \n    \n\n    \n        \n            [vc_btn title=”FIND OUT MORE” style=”outline” color=”sky” align=”center” link=”url:https%3A%2F%2Fconveningemea.org%2F|title:FIND%20OUT%20MORE|target:_blank”]
URL:https://www.pcma.org/event/convening-emea-2026/
LOCATION:FIL – Lisbon Exhibition and Congress Centre\, Rua do Bojador\, Parque das Nações\, Lisbon\, 1998-010\, Portugal
CATEGORIES:• Sustainability,EMEA (Europe, Middle East & Africa),Featured,Industry Calendar,PCMA Events
ATTACH;FMTTYPE=image/png:https://www.pcma.org/wp-content/uploads/2025/10/CEMEA26-2400x800-v2.png
END:VEVENT
BEGIN:VEVENT
DTSTART;VALUE=DATE:20260915
DTEND;VALUE=DATE:20260917
DTSTAMP:20260423T200824
CREATED:20251027T151644Z
LAST-MODIFIED:20251027T160951Z
UID:244546-1789430400-1789603199@www.pcma.org
SUMMARY:Convene 4 Climate 2026
DESCRIPTION:Convene 4 Climate (C4C) is a global platform and movement aimed at accelerating the transition of the Business Events Industry (BEI) towards sustainability and regeneration. \nA collaborative initiative born in 2024 between PCMA in collaboration with The Strategic Alliance of National Convention Bureaux of Europe (SANCBE)\, C4C has taken a structured\, action-oriented approach\, stimulating cross-sector collaboration to promote and realise feasible tactics that enable industry stakeholders to drive measurable change. \nThis platform will bring together BEI and other sectors to explore future scenarios\, growing knowledge and creative solutions around the intersection of climate-tech and the world of Business Events. Through creating workshop-based and lasered-focus content environments we will find tools and technology\, skills and people to propel better decisions and the ability to act now. \nJoin us in Lisbon in September 2026 as our journey continues. \n\n        \n    \n\n\n    \n    \n\n    \n        \n            [vc_btn title=”FIND OUT MORE” style=”outline” color=”sky” align=”center” link=”url:https%3A%2F%2Fconvene4climate.org%2F|title:FIND%20OUT%20MORE|target:_blank”]
URL:https://www.pcma.org/event/convene-4-climate-2026/
LOCATION:FIL – Lisbon Exhibition and Congress Centre\, Rua do Bojador\, Parque das Nações\, Lisbon\, 1998-010\, Portugal
CATEGORIES:• Sustainability,EMEA (Europe, Middle East & Africa),Featured,Industry Calendar,PCMA Events
ATTACH;FMTTYPE=image/png:https://www.pcma.org/wp-content/uploads/2025/10/C4C-Lisbon2026-4608x1152-1-scaled.png
END:VEVENT
END:VCALENDAR