BEGIN:VCALENDAR
VERSION:2.0
PRODID:-//PCMA - ECPv5.14.2.1//NONSGML v1.0//EN
CALSCALE:GREGORIAN
METHOD:PUBLISH
X-WR-CALNAME:PCMA
X-ORIGINAL-URL:https://www.pcma.org
X-WR-CALDESC:Events for PCMA
REFRESH-INTERVAL;VALUE=DURATION:PT1H
X-Robots-Tag:noindex
X-PUBLISHED-TTL:PT1H
BEGIN:VTIMEZONE
TZID:Asia/Singapore
BEGIN:STANDARD
TZOFFSETFROM:+0800
TZOFFSETTO:+0800
TZNAME:+08
DTSTART:20260101T000000
END:STANDARD
TZID:America/Chicago
BEGIN:DAYLIGHT
TZOFFSETFROM:-0600
TZOFFSETTO:-0500
TZNAME:CDT
DTSTART:20260308T080000
END:DAYLIGHT
BEGIN:STANDARD
TZOFFSETFROM:-0500
TZOFFSETTO:-0600
TZNAME:CST
DTSTART:20261101T070000
END:STANDARD
END:VTIMEZONE
BEGIN:VEVENT
DTSTART;VALUE=DATE:20260412
DTEND;VALUE=DATE:20260415
DTSTAMP:20260423T131302
CREATED:20250813T065259Z
LAST-MODIFIED:20251010T034505Z
UID:240929-1775952000-1776211199@www.pcma.org
SUMMARY:Convening APAC 2026
DESCRIPTION:PCMA APAC has officially confirmed that the Convening APAC 2026 (formerly The Business of Events) conference will take place from 12-14 April\, 2026\, at Marina Bay Sands in Singapore. \nAbout Convening APAC \nConvening APAC is where multi-generational senior business event leaders and next generation professionals converge. Together\, they shape the future of our industry and profession. Designed for corporate event marketing professionals\, association meeting professionals\, event owners\, event managers\, and business events leaders\, this PCMA Asia Pacific flagship event brings together a trusted community from across the region. \nConvening APAC delivers a signature mix of bold ideas and practical solutions. Gain insights and inspiration from beyond the industry. Explore strategies to tackle today’s challenges. Uncover future-focused perspectives on regional trends and opportunities. It’s about sparking conversations\, changing old ways\, and co-creating impactful outcomes. \nConvening APAC empowers individuals and teams with knowledge\, skills\, and a like-minded community. This helps them thrive in times of constant change. With fresh faces\, multi-generational perspectives\, and bold thinking\, Convening APAC ignites innovation\, drives growth\, and amplifies the collective power of the PCMA community — leading minds; leading change. \n \n\n        \n    \n\n\n    \n    \n\n    \n        \n            \n    Who should attend \nEvent organisers | Event marketers | Event managers | Agency leaders | Marketers | Association leaders  \n\n        \n    \n\n\n    \n    \n\n    \n        \n            \n    \n\n\n    Panellists & Moderator\n \n\n\n				\n					\n						\n							\n								Kim Hyde (Panellist)Patricia Cheong (Panellist)Dr. Oliver Lock (Panellist)Florence Chua (Moderator)\n							\n						\n						\n							\n    Kim Hyde \nConferences and Events Professional\, CPA Australia \n\n\n            \n                    \n    \n\n    Kim Hyde is the Product Development Executive – Conferences at CPA Australia\, where she curates content for major events including CPA Week and CPA Congress. With over 20 years of experience in Conferences\, Events\, and Marketing\, Kim has worked across diverse industries including major sporting events\, FMCG\, and not-for-profit member-based associations. Her expertise has contributed to events reaching global audiences\, with her largest project engaging 700 million people worldwide. At CPA Australia\, Kim continues to leverage her extensive background to deliver impactful content for accounting and finance professionals worldwide. \nCheck out Kim’s LinkedIn. \n\n\n    Event Details \nDate: Tue\, 27 August 2024\nTime: 9:30am SGT | 10:30am KST | 11:30am AEST \nPlatform: Zoom Webinar \n\n\n    Patricia Cheong \nEvent Director\, Informa \n\n\n            \n                    \n    \n\n    Patricia Cheong\, DES\, CASE\, is a distinguished Business Events Strategist at ATxSG\, Informa\, with a well-earned reputation for pioneering innovative strategies within the MICE (Meetings\, Incentives\, Conferences\, and Exhibitions) industry. With her extensive expertise and forward-thinking approach\, Patricia has consistently driven impactful and successful events\, elevating brand experiences and fostering meaningful connections among industry professionals. Her leadership and dedication to excellence have positioned her as a thought leader in the business events landscape\, making her a sought-after strategist for transformative and results-driven event solutions. \nCheck out Patricia’s Linkedin.  \n\n\n    Dr. Oliver Lock \nAI Studio Director\, Deloitte \n\n\n            \n                    \n    \n\n    Dr. Oliver Lock is AI Studio Director at Deloitte\, specialising in generative AI and spatial data science. With a focus on developing innovative AI products\, he leads projects that transform service delivery across sectors in Deloitte Australia. As well as his current role\, Dr. Lock has extensive experience in urban planning\, transport systems\, and digital analytics\, having worked with major cities worldwide. He holds a PhD in Spatial Data Science from UNSW and a Master of Research from University College London. \nCheck out Dr. Oliver’s LinkedIn. \n\n\n    Florence Chua \nManaging Director\, PCMA APAC \n\n\n            \n                    \n    \n\n    Florence is an accomplished business leader with a passion for exploring new cultures\, cuisines\, and knowledge. She believes that traveling and learning are essential for personal growth and professional success. Florence has worked across various industries\, including media\, events\, management and consulting\, where she has developed a strong acumen for business thinking\, problem-solving\, and relationship-building. Florence is focused on reflective thinking and meaningful connections. She strives to deliver excellence in everything she does and believes that positivity and authenticity are essential for building trust and fostering long-term relationships. \nCheck out Flo’s Linkedin.  \n\n\n						\n					\n				         \n    \n\n\n    \n    \n\n    \n        \n                    \n    \n\n\n    \n    \n\n    \n        \n            \n            \n                    \n    \n[vc_btn title=”Keep Me Posted” style=”custom” custom_background=”#ef643d” custom_text=”#ffffff” shape=”round” size=”lg” align=”center” link=”url:https%3A%2F%2Fwww.pcma.org%2Fapac%2Fthebusinessofevents2024-apac-keep-me-posted%2F”]\n    *AUD rates are indicative pricing only. Registration will be charged in USD. \n\n        \n    \n\n\n    \n    \n\n    \n        \n            \n    About PCMA Labs \nPCMA Labs is a sandbox for event organisers\, marketers\, event managers\, and event strategists. Explore business events industry trends and pain points in a safe environment where you will be challenged to think out of the box\, where the seemingly impossible may be possible with collective wisdom and action. Build trusted\, peer-to-peer relationships and be part of a community that innovates and shapes the future of our industry.  \n\n        \n    \n\n\n    \n    \n\n    \n        \n            \n    Register your interest to attend the event by filling in the form below.\n*All fields are necessary.  \n\n\n     \n\n        \n    \n\n\n    \n    \n\n    \n        \n            \n    OUR PARTNERS
URL:https://www.pcma.org/event/convening-apac-2026/
CATEGORIES:APAC (Asia Pacific),Featured,Industry Calendar,PCMA Events
ATTACH;FMTTYPE=image/png:https://www.pcma.org/wp-content/uploads/2025/08/16.9-capac26.png
END:VEVENT
BEGIN:VEVENT
DTSTART;TZID=America/Chicago:20260414T110000
DTEND;TZID=America/Chicago:20260414T120000
DTSTAMP:20260423T131302
CREATED:20260407T161220Z
LAST-MODIFIED:20260407T165710Z
UID:251748-1776164400-1776168000@www.pcma.org
SUMMARY:Spark Webinar Series | Power Up Your Event Operations
DESCRIPTION:[vc_btn title=”REGISTER NOW” style=”gradient-custom” gradient_custom_color_1=”#e0295d” gradient_custom_color_2=”#9353f6″ shape=”round” size=”lg” align=”center” i_align=”right” i_icon_fontawesome=”fas fa-chevron-right” add_icon=”true” link=”url:https%3A%2F%2Fpcma.zoom.us%2Fwebinar%2Fregister%2FWN_rRN9CkIjS_qCE_XGbjX_Qw|target:_blank” el_class=”reg-btn pcma-btn white-btn”]        \n    \n\n\n    \n    \n\n    \n        \n            \n    Go beyond watching — build operations workflows in Spark. In this case-based session\, you’ll create run sheets\, task lists\, supplier briefs\, and contingency plans. You’ll also explore how Spark supports program logistics and session flow. Leave with a reusable event operations plan you can adapt instantly. \nLearning outcomes: \n\nCreate run sheets\, task lists\, and supplier briefs with Spark.\nBuild contingency plans for common operational challenges.\nStructure program logistics and manage session flow.\nDevelop a reusable event operations workflow for future use.\n\nPresenter: Nick Borelli \n\n        \n    \n\n\n    \n    \n\n    \n        \n            [vc_btn title=”REGISTER NOW” style=”gradient-custom” gradient_custom_color_1=”#e0295d” gradient_custom_color_2=”#9353f6″ gradient_text_color=”” shape=”round” size=”lg” align=”center” i_align=”right” i_icon_fontawesome=”fas fa-chevron-right” add_icon=”true” link=”url:https%3A%2F%2Fpcma.zoom.us%2Fwebinar%2Fregister%2FWN_rRN9CkIjS_qCE_XGbjX_Qw|target:_blank” el_class=”reg-btn pcma-btn”]        \n    \n\n\n    \n    \n\n    \n        \n            \n    Earn 1 CEU Credit Towards Your CMP Certification by Attending! \nBrought to you by Caesars Entertainment
URL:https://www.pcma.org/event/spark-webinar-power-up-your-event-operations/
LOCATION:Online\, United States
CATEGORIES:Featured,Industry Calendar,PCMA Events,Webinars
ATTACH;FMTTYPE=image/png:https://www.pcma.org/wp-content/uploads/2026/04/PowerUp.png
END:VEVENT
END:VCALENDAR