BEGIN:VCALENDAR
VERSION:2.0
PRODID:-//PCMA - ECPv5.14.2.1//NONSGML v1.0//EN
CALSCALE:GREGORIAN
METHOD:PUBLISH
X-WR-CALNAME:PCMA
X-ORIGINAL-URL:https://www.pcma.org
X-WR-CALDESC:Events for PCMA
REFRESH-INTERVAL;VALUE=DURATION:PT1H
X-Robots-Tag:noindex
X-PUBLISHED-TTL:PT1H
BEGIN:VTIMEZONE
TZID:America/Los_Angeles
BEGIN:DAYLIGHT
TZOFFSETFROM:-0800
TZOFFSETTO:-0700
TZNAME:PDT
DTSTART:20260308T100000
END:DAYLIGHT
BEGIN:STANDARD
TZOFFSETFROM:-0700
TZOFFSETTO:-0800
TZNAME:PST
DTSTART:20261101T090000
END:STANDARD
END:VTIMEZONE
BEGIN:VEVENT
DTSTART;TZID=America/Los_Angeles:20260505T140000
DTEND;TZID=America/Los_Angeles:20260505T180000
DTSTAMP:20260423T131857
CREATED:20260302T114542Z
LAST-MODIFIED:20260422T214518Z
UID:250088-1777989600-1778004000@www.pcma.org
SUMMARY:The Business\, The Balance & The Brews
DESCRIPTION:Join PCMA SWP  as SEAS Productions presents an educational afternoon focused on providing our live event & hospitality professionals an engaging panel discuss highlighting The Business of Business Financials\, followed by a dive into the Seven Pillars of Live Events Work / Life Balance. After these sessions the afternoon will close out with a networking Cinco de Mayo Happy Hour! \nDate:  Tuesday\, May 5\, 2026 \nLocation:  SEAS Productions \nAddress:  2664 Vista Pacific Dr\, Oceanside\, CA 92056 \nTime:  2:00 – 6:00 PM \nCEUs: 2.0 Clock Hours \nCost: $25 for PCMA Members / $40 for Non-PCMA Members \nAnticipated Agenda:  \n\n\n\n2:00 PM – Arrivals and Light Refreshments\n2:30 PM – Welcome with Troy Peters\, CTS\n2:45 PM – The Business of the Business Panel with Tempo Live Events – This panel discussion will teach you the ins and outs of keeping your business finances clean\, organized\, and easy to manage.  We’ll share simple bookkeeping systems\, common mistakes to avoid\, and practical ways to reduce admin time so your numbers are always in good shape.  This is the ideal session for anyone looking to build a true business servicing the live events industry whether you are an event planner making her own event planning business or you’re an event freelancer that needs to better track their projects.\n\nPanelists include Lalan Pulati\, Nancy Spooner\, and Troy Peters\, CTS\n\n\n3:30 PM – The Seven Pillars of Live Event Work / Life Balance with Angelica Robison\, Intuitive Relationship Coach. –When individuals are out of alignment internally\, it shows up externally in the workplace and no one wants that.  This interactive session leans into “The Seven Pillars” – a practical framework designed to help individuals and teams reduce chaos\, improve communication\, and restore balance across work\, wellness\, and relationships.  Through the seven pillars of Awareness\, Respect\, Communication\, Commitment\, Community\, Giving\, and Strength participants explore together how imbalance creates stress\, conflict\, and disengagement – and how alignment restores clarity\, collaboration\, peace\, and vitality.  Participants will engage through brief real-life examples and reflective prompts to encourage practical application.  They will have the opportunity to write out 3 key points to assist them in the areas they choose to focus on and apply in real life.\n4:30 PM – Closing Conversations\n4:45 PM – Cinco de Mayo Happy Hour with Food & Beverages hosted by SEAS Productions\n6:00 PM – Closing\n\n\n\n  \nTroy Peters career began in motion picture production working with 20th Century Fox\, Paramount\, and Disney before migrating to association show management with the Society for Optics & Photonics in Washington State where he was part of a team managing a dozen international and regional events from 500 to well over 20\,000 attendees across the Unites States\, Canada\, and Europe. Eventually Troy migrated back to production and continues to build his relationships in the corporate\, association\, and special event space having been involved on events with South x Southwest\, the McCain Institute\, PGA\, NCAA\, and even an NFL Super Bowl. With his innate understanding of what it takes to design production centric experiences while understanding the demands of the event life cycle\, he continues to share this knowledge as a speaker\, a board member\, volunteer\, and a mentor to others in the industry. As part owner and Chief Experience Officer with SEAS Productions\, Troy is guiding the company to embrace change\, step outside their comfort zone and immerse marketing and client relations as one and the same by sharing the “secret sauce” that makes their company unique in the audio visual and production space. \nLalan Pulati is the Controller at Tempo Live Events\, and Founder of Druzy Financials\, where she oversees the company’s financial operations with a focus on accuracy\, efficiency\, and scalability. With a strong foundation in business accounting and hands-on experience across accounting operations\, FP&A\, and financial systems design\, Lalan is known for her practical\, detail-driven approach—bridging financial data with real-world operations so leadership teams can focus on execution & growth. \n\n\n\n\n\n  \n  \n\n\n\n\n\nAngelica Robison is a professional speaker and intuitive relationship coach specializing in workplace relationships and work/life balance. She is the creator of The Seven Pillars of Work/Life Alignment\, a proprietary framework centered on awareness\, communication\, and intentional connection. Angelica helps professionals reduce stress\, navigate life transitions with clarity\, and create healthier relationships through keynotes\, workshops\, and virtual coaching options. \n\n\n\n\n\n  \n  \n  \n  \n\n\n\n\n\n Nancy Spooner\, an accomplished independent contractor with 30+ years’ experience in producing and stage managing corporate events\, sales meetings\, and tech conferences as well as sporting events like the X Games\, Olympics\, and US Open Tennis. In 2008 she founded Tempo Live Events\, a premier resource for freelance event production resourcing. When not on calls\, Nancy can be found hiking or biking in a National Park with her husband and son or surfing in San Diego. \n\n\n\n\n\n 
URL:https://www.pcma.org/event/the-business-the-balance-the-brews/
LOCATION:SEAS Productions\, 2664 Vista Pacific Drive\, Oceanside\, CA\, 92056
CATEGORIES:• Southwest & Pacific
ATTACH;FMTTYPE=image/png:https://www.pcma.org/wp-content/uploads/2026/03/business-balence-brews-e1772337937839-2lLHQE.png
ORGANIZER;CN="PCMA%20Southwest%20%26amp%3B%20Pacific%20Chapter":MAILTO:Southwest@pcma.org
END:VEVENT
BEGIN:VEVENT
DTSTART;TZID=America/Los_Angeles:20260507T170000
DTEND;TZID=America/Los_Angeles:20260507T190000
DTSTAMP:20260423T131857
CREATED:20260408T173031Z
LAST-MODIFIED:20260422T214519Z
UID:251819-1778173200-1778180400@www.pcma.org
SUMMARY:Swing Fling
DESCRIPTION:Swing into action and reserve your spot to join us for an exclusive complimentary event to experience what PCMA SWP is all about!\n\nPCMA Southwest & Pacific Chapter’s Swing Fling is coming to Swingers Las Vegas on May 7th during Travel & Tourism week.\n\n\nThis exclusive complimentary event has limited spots available. Come experience our PCMA Southwest & Pacific Chapter community\, meet with our current PCMA President\, Kristin Green\, and celebrate our industry during Tourism & Travel Week all while enjoying delicious bites\, beverages and crazy fun mini golf that only Swingers Las Vegas can provide!\n\n\nDoors open at 5pm\nTee off times start around 6pm\nYou must be 21 to attend\n\n\n\n\nSponsored by Cohera\, Swingers Las Vegas and Champagne Creative Group\n\nDon’t miss out on this exclusive opportunity\, register to reserve your event attendance today before spots run out!
URL:https://www.pcma.org/event/swing-fling/
LOCATION:Swingers Las Vegas\, 3950 S Las Vegas Blvd\, Suite #228\, Las Vegas\, NV\, 89119\, United States
CATEGORIES:• Southwest & Pacific
ATTACH;FMTTYPE=image/png:https://www.pcma.org/wp-content/uploads/2026/04/swingfling-w-image-e1776025331101-A6vqsj.png
ORGANIZER;CN="PCMA%20Southwest%20%26amp%3B%20Pacific%20Chapter":MAILTO:Southwest@pcma.org
END:VEVENT
END:VCALENDAR