BEGIN:VCALENDAR
VERSION:2.0
PRODID:-//PCMA - ECPv5.14.2.1//NONSGML v1.0//EN
CALSCALE:GREGORIAN
METHOD:PUBLISH
X-WR-CALNAME:PCMA
X-ORIGINAL-URL:https://www.pcma.org
X-WR-CALDESC:Events for PCMA
REFRESH-INTERVAL;VALUE=DURATION:PT1H
X-Robots-Tag:noindex
X-PUBLISHED-TTL:PT1H
BEGIN:VTIMEZONE
TZID:America/Chicago
BEGIN:DAYLIGHT
TZOFFSETFROM:-0600
TZOFFSETTO:-0500
TZNAME:CDT
DTSTART:20260308T080000
END:DAYLIGHT
BEGIN:STANDARD
TZOFFSETFROM:-0500
TZOFFSETTO:-0600
TZNAME:CST
DTSTART:20261101T070000
END:STANDARD
END:VTIMEZONE
BEGIN:VEVENT
DTSTART;TZID=America/Chicago:20260429T110000
DTEND;TZID=America/Chicago:20260429T120000
DTSTAMP:20260425T065738
CREATED:20260410T213014Z
LAST-MODIFIED:20260424T163017Z
UID:251930-1777460400-1777464000@www.pcma.org
SUMMARY:Measure What Matters: Sustainability Tracking & Interpretation Strategies for Event Professionals
DESCRIPTION:at 			\n			\n							 \n\n\nThis free webinar is made possible with the support of our sponsor\, Honeycomb Strategies. \nStrong data has the power to shape more sustainable events — but collecting it is only half the battle. The real opportunity lies in knowing how to interpret and act on what the numbers are telling you. When event professionals move beyond spreadsheets and start visualizing and understanding their sustainability data\, they unlock smarter decisions\, stronger outcomes\, and greater accountability across the entire event lifecycle.  \nIn the spirit of PCMA Convening Leaders’ ethos of “Sustainability By Design\,” this webinar brings together practitioners who are doing exactly that — using data to drive informed\, intentional choices at every stage of event planning.  \nCorey Clark of Honeycomb Strategies will share best practices\, frameworks\, and methodologies for approaching sustainable decision-making through data\, including how tools like HIVE  support goal-setting\, certification milestones like EIC\, vendor outreach\, and on-site sustainability programming.  \nJoining the conversation is Karla Zander\, Director of Operations & Experience at PCMA. She will share her firsthand experiences using HIVE to navigate sustainability tracking in real-world event planning environments — from the challenges they faced to the strategies that made a difference.  \nIn this session\, you’ll learn how to: \n\nSet strategic\, measurable sustainability goals for your events\nCollect\, visualize\, and interpret sustainability data to inform decision-making \nApply tracking frameworks and methodologies regardless of the tools you use \nAlign sustainability initiatives with broader organizational values \nCommunicate your impact effectively to stakeholders and participants \n\nCan’t attend live? Register now to receive the recording.  \n\nRSVP Now\n\n\n\n\n\n\n						\n							Add to calendar						 \n\n\n\n									\n										Google Calendar									\n								\n\n									\n										iCalendar									\n								\n\n									\n										Outlook 365									\n								\n\n									\n										Outlook Live
URL:https://www.pcma.org/event/measure-what-matters-sustainability-tracking-interpretation-strategies-for-event-professionals/
CATEGORIES:PCMA Institute,Webinars
ATTACH;FMTTYPE=image/png:https://www.pcma.org/wp-content/uploads/2026/04/Webinar-April-2026-Measure-What-Matters-Event-Page-Header-fBK5WE.png
END:VEVENT
END:VCALENDAR